BEGIN:VCALENDAR
VERSION:2.0
PRODID:-//Federation Internationale de Gynecologie Infantile et Juvenile - ECPv6.15.20//NONSGML v1.0//EN
CALSCALE:GREGORIAN
METHOD:PUBLISH
X-WR-CALNAME:Federation Internationale de Gynecologie Infantile et Juvenile
X-ORIGINAL-URL:https://figij.org
X-WR-CALDESC:Events for Federation Internationale de Gynecologie Infantile et Juvenile
REFRESH-INTERVAL;VALUE=DURATION:PT1H
X-Robots-Tag:noindex
X-PUBLISHED-TTL:PT1H
BEGIN:VTIMEZONE
TZID:Asia/Shanghai
BEGIN:STANDARD
TZOFFSETFROM:+0800
TZOFFSETTO:+0800
TZNAME:CST
DTSTART:20240101T000000
END:STANDARD
END:VTIMEZONE
BEGIN:VTIMEZONE
TZID:UTC
BEGIN:STANDARD
TZOFFSETFROM:+0000
TZOFFSETTO:+0000
TZNAME:UTC
DTSTART:20240101T000000
END:STANDARD
END:VTIMEZONE
BEGIN:VEVENT
DTSTART;TZID=Asia/Shanghai:20250504T180000
DTEND;TZID=Asia/Shanghai:20250504T183000
DTSTAMP:20260420T034039
CREATED:20250421T133401Z
LAST-MODIFIED:20250421T133401Z
UID:10000081-1746381600-1746383400@figij.org
SUMMARY:AOSPAG Webinar: Diagnosis and Management of Precocious Puberty in Girls – Case Series
DESCRIPTION:Dear Members of the AOSPAG Community\, \nWe are pleased to invite you to the upcoming monthly AOSPAG educational webinar hosted by Zhejiang\, China: \nTopic: Diagnosis and Management of Precocious Puberty in Girls – Case Series\nDate: May 8th\, 2025 (Wednesday)\nTime: 18:00 (GMT+8) \nCorresponding Time Zones: \n\nChina / Hong Kong / Malaysia / Philippines: 18:00\nPakistan: 15:00\nIndia: 15:30\nBangladesh: 16:00\nJapan / South Korea: 19:00\nMelbourne\, Australia: 20:00\nNew Zealand: 22:00\n\nPlatform: Zoom\nJoin via Zoom: https://cuhk.zoom.us/j/97992937500?pwd=8RHljCff0szJbdTaJi0IFa1b4DAEUj.1\nMeeting ID: 979 9293 7500\nPasscode: 856157 \n Chairman\nDr Sun Liying\, Lynn\nDirector of PAG Department\, Chief Physician\nThe Children’s Hospital of Zhejiang University of Medicine \n Moderator\nDr Leek Mei Lim\nClinical Fellow in Reproductive Medicine (Ministry of Health\, Malaysia)\nSpecial Interest in PAG\, The Children’s Hospital of Zhejiang University of Medicine \n Speakers \n\nDr Gao Huihui\, Amy\nAssistant Director\, PAG Department\nClinical Associate Physician\, The Children’s Hospital of Zhejiang University of Medicine\nDr Shen Qiuxiang\, Fiona\nAttending Physician\, The Children’s Hospital of Zhejiang University of Medicine\nDr Zhang Junwen\nAttending Physician\, The Children’s Hospital of Zhejiang University of Medicine\nDr Zhuli\nAttending Physician\, The Children’s Hospital of Zhejiang University of Medicine\n\nWe warmly welcome all AOSPAG members to join this session and share in this opportunity for regional knowledge exchange and discussion. \nFor more details\, please refer to the attached poster.\nLet’s continue learning and growing together as a PAG community! \nWarm regards\, \nKaren Ng (Honorary Secretary of AOSPAG) for Dr Ani Amelia Zainuddin (President of AOSPAG)
URL:https://figij.org/event/aospag-webinar-diagnosis-and-management-of-precocious-puberty-in-girls-case-series/
CATEGORIES:Conferences,Congresses
ATTACH;FMTTYPE=image/jpeg:https://figij.org/wp-content/uploads/2025/04/AOSPAG-Poster_202505-scaled.jpg
END:VEVENT
BEGIN:VEVENT
DTSTART;TZID=UTC:20250519T080000
DTEND;TZID=UTC:20250519T170000
DTSTAMP:20260420T034039
CREATED:20250519T220645Z
LAST-MODIFIED:20250519T220645Z
UID:10000083-1747641600-1747674000@figij.org
SUMMARY:Mind Over Matter: Digging Deeper into the Psychosocial Challenges of Adolescents at Risk for PCOS
DESCRIPTION:Dear Members of the AOSPAG Community\, \nWe are pleased to invite you to the upcoming Asia-Oceanic Society of Paediatric and Adolescent Gynecology (AOSPAG) webinar titled: \n Mind Over Matter: Digging Deeper into the Psychosocial Challenges of Adolescents at Risk for PCOS \nThis important session is hosted by the Pediatric and Adolescent Gynecology Society of the Philippines (PAGSPHIL) and will feature expert insights into the mental and emotional health challenges faced by adolescents with PCOS. \nDate: June 5\, 2025\nTime: 5:00 PM – 7:00 PM (GMT+8) \n\n\n\nLocal Time\nLocations\n\n\n\n\n\n\n2:00 PM – 4:00 PM\nPakistan\n\n\n\n\n\n\n2:30 PM – 4:30 PM\nIndia\n\n\n\n\n\n\n3:00 PM – 5:00 PM\nBangladesh\n\n\n\n\n\n\n4:00 PM – 6:00 PM\nIndonesia (Jakarta)\n\n\n\n\n\n\n5:00 PM – 7:00 PM\nChina\, Hong Kong\, Malaysia\, Philippines\n\n\n\n\n\n\n6:00 PM – 8:00 PM\nJapan\, South Korea\n\n\n\n\n\n\n7:00 PM – 9:00 PM\nAustralia (Melbourne)\n\n\n\n\n\n\n9:00 PM – 11:00 PM\nNew Zealand\n\n\n\nJoin via Zoom:\nClick here to join the meeting \n<link: https://us02web.zoom.us/j/88452142363?pwd=bwTruAbmlif5tOaKhAXtubSaLy6XCC.1> \nMeeting ID: 884 5214 2363\nPasscode: 788811 \n Presenter:\nDr. Kia Angela B. Gargantiel – PAG Fellow-in-Training \n Reactors:\nDr. Ralph Stephenson C. Tan – Adolescent Medicine Specialist\nDr. Angeline G. Santos – Pediatric and Adolescent Gynecology Specialist \n Moderator:\nDr. Rosielix E. David – Pediatric and Adolescent Gynecology Specialist \nCan’t join via Zoom? Watch the livestream on Facebook:\nPAGSPHIL Official Facebook Page \nWe look forward to your participation in this engaging and meaningful discussion. \nWarm regards\,\nDr Karen Ng\, Honorary Secretary of AOSPAG for Dr Ani Amelia Zainuddin\, President of AOSPAG
URL:https://figij.org/event/mind-over-matter-digging-deeper-into-the-psychosocial-challenges-of-adolescents-at-risk-for-pcos/
CATEGORIES:Conferences,Congresses
ATTACH;FMTTYPE=image/jpeg:https://figij.org/wp-content/uploads/2025/05/2025_06-Poster.jpg
END:VEVENT
BEGIN:VEVENT
DTSTART;VALUE=DATE:20250619
DTEND;VALUE=DATE:20250620
DTSTAMP:20260420T034039
CREATED:20250611T150605Z
LAST-MODIFIED:20250611T150605Z
UID:10000084-1750291200-1750377599@figij.org
SUMMARY:Protecting women's health in conflict
DESCRIPTION:This webinar will be led by the Committee on Women Facing Crisis in collaboration with the Committee on Health Systems Strengthening and Respectful Care. \nIt will bring together critical insights from across regions affected by conflict and forced migration to explore how healthcare providers and health systems are responding to these urgent challenges. \nRegister here \n 
URL:https://figij.org/event/protecting-womens-health-in-conflict/
CATEGORIES:Conferences,Congresses
END:VEVENT
BEGIN:VEVENT
DTSTART;TZID=UTC:20250627T080000
DTEND;TZID=UTC:20250627T170000
DTSTAMP:20260420T034039
CREATED:20250627T171254Z
LAST-MODIFIED:20250627T171254Z
UID:10000085-1751011200-1751043600@figij.org
SUMMARY:AOSPAG Webinar: Clinical Insights into an XY Femal
DESCRIPTION:Dear Members of the AOSPAG community\, \nWe are thrilled to invite you to our upcoming Focus Webinar Series session\, “Clinical Insights into an XY Female” organized by the Pakistan Team\, featuring insights from distinguished experts in the field! \nThis webinar promises valuable learning\, offering a case-based clinical approach with an emphasis on multidisciplinary care. Don’t miss the live Q&A session at the end! \nAttached please find the flyer for the event. \nWebinar Details: \n\n\nTopic: Clinical Insights into an XY Female \n\n\nDate:  Thursday\, 10th July 2025 \n\n\nTime:  2:00 PM – 4:00 PM (Pakistan Standard Time) \n\n\nObjectives: \n Case discussion about an XY female \n Understand the genetic basis & pathophysiology \n Review clinical presentation\, diagnosis\, & management \nFeaturing Panelists: \n\n\nDr. Iffat Ahmed (Activity Director) \n\n\nDr. Duriya Rehmani (Co-Director\, Moderator & Presenter) \n\n\nDr. Zunaira Kamal (Presenter) \n\n\nDr. Zafar Nazir (Paediatric Surgeon) \n\n\nDr. Salman Kirmani (Medical Geneticist & Paediatric Endocrinologist) \n\n\nGlobal Time Zones (GMT Order): \n\n\nPakistan: 14:00 – 16:00 (GMT+5) \n\n\nIndia: 14:30 – 16:30 (GMT+5:30) \n\n\nBangladesh: 15:00 – 17:00 (GMT+6) \n\n\nIndonesia (Western): 16:00 – 18:00 (GMT+7) \n\n\nChina\, Malaysia\, Philippines: 17:00 – 19:00 (GMT+8) \n\n\nJapan\, Korea: 18:00 – 20:00 (GMT+9) \n\n\nMelbourne\, Australia: 19:00 – 21:00 (GMT+10) \n\n\nNew Zealand: 21:00 – 23:00 (GMT+12) \n\n\n\n\n\nZoom Meeting Information: \n\n\nJoin Zoom Meeting:  https://cuhk.zoom.us/j/93357838366?pwd=qVjY0gTdaKgDbWRj1W9LC5nm2ezgtd.1 \n\n\nMeeting ID: 933 5783 8366 \n\n\nPasscode: 864735 \n\n\nAga Khan University is accredited by the Accreditation Council for Continuing Medical Education (ACCME) to provide continuing medical education for physicians. This activity is designated for a maximum of 2.00 AMA PRA Category 1 Credits. \nWe highly encourage all our members to attend this insightful session! \nSincerely\, \nDr Karen Ng  (Secretary of AOSPAG) for Prof Dr Ani Amelia Zainuddin (President of AOSPAG)
URL:https://figij.org/event/aospag-webinar-clinical-insights-into-an-xy-femal/
CATEGORIES:Conferences,Congresses
ATTACH;FMTTYPE=image/png:https://figij.org/wp-content/uploads/2025/06/AOSOAG-Jul-Clinical-Insights-Webinar.png
END:VEVENT
BEGIN:VEVENT
DTSTART;TZID=UTC:20250828T200000
DTEND;TZID=UTC:20250828T210000
DTSTAMP:20260420T034039
CREATED:20250828T163501Z
LAST-MODIFIED:20250828T163501Z
UID:10000086-1756411200-1756414800@figij.org
SUMMARY:Fertility Preservation for Paediatric and Adolescent Cancer Patients: A Multidisciplinary Perspective
DESCRIPTION:The Department of Obstetrics and Gynaecology\, Faculty of Medicine\, Public Health and Nursing\, Universitas Gadjah Mada\, in collaboration with the Asia Oceania Society of Paediatric and Adolescent Gynaecology (AOSPAG) proudly present:\n\nTopic:  Fertility Preservation for Paediatric and Adolescent Cancer Patients: A Multidisciplinary Perspective\nDate & Time\nThe event is on Thursday\, August 28th\, 2025. 3:00 – 5:00 PM in Indonesia (UTC+7) \nPlease find your local time below:\n\n\n1:00 PM in Pakistan (PKT) \n\n\n1:30 PM in India (IST) \n\n\n4:00 PM in China\, Malaysia\, Philippines (UTC+8) \n\n\n5:00 PM in Japan\, South Korea (JST/KST) \n\n\n6:00 PM in Melbourne\, Australia (AEST) \n\n\n8:00 PM in New Zealand (NZST) \n\n\nSpeakers:\n      •     Dr. Sarrah Ayuandari\, Ph.D\, Sp.OG – Case Presentation: Diminished Ovarian Reserve as the long-term gonadotoxic effect of therapy in Pediatric Cancer Patients\n      •     Prof. Dr. dr. Budi Wiweko\, SpOG\, Subsp. FER\, MPH\, FRANZCOG (Hons)\, FICRM – Recent Updates on Fertility Preservation Strategies for Children and Young Adults (CAYA) in Indonesia\n      •     Dr. Sri Mulatsih\, MPH\, Sp.A(K) – Bridging Cancer Care and Future Fertility: The Role of Pediatric Oncologists\n      •     Prof. dr. Gunadi\, Ph.D\, Sp.BA\, Subsp. D.A(K) – Pediatric Surgeon’s Perspectives in Fertility Preservation: Techniques and Timing\n      •     Dr. Karen Ng (CUHK – The Chinese University of Hong Kong) – Expert Opinion and Fertility Preservation Experience in Hong Kong\n\nModerators:\n      •     Dr. dr. Muhammad Nurhadi Rahman\, SpOG\, Subsp. Urogin-RE\n      •     Dr. Dyana Safitri Velies\, SpOG\, Subsp. Obsginsos\, M.Kes\n\nJoin us via Zoom\nLink: https://ugm-id.zoom.us/j/96759456256?pwd=9JnxNT55jcAi9eGVWtGddXtEaTdyPv.1\nMeeting ID: 967 5945 6256\nPasscode: 101136\n\nDon’t miss this opportunity to gain multidisciplinary insights into the evolving field of Fertility Preservation in Paediatric and Adolescent Patients!\n\nRegards\,\nKaren Ng (Secretary of AOSPAG) for Dr Ani Amelia Zainuddin (President of AOSPAG)
URL:https://figij.org/event/fertility-preservation-for-paediatric-and-adolescent-cancer-patients-a-multidisciplinary-perspective/
ORGANIZER;CN="AOSPAG":MAILTO:info@aospag.com
END:VEVENT
BEGIN:VEVENT
DTSTART;VALUE=DATE:20250911
DTEND;VALUE=DATE:20250914
DTSTAMP:20260420T034039
CREATED:20250324T180806Z
LAST-MODIFIED:20250324T180806Z
UID:10000076-1757548800-1757807999@figij.org
SUMMARY:2nd AOSPAG Congress
DESCRIPTION:Dear Members of the AOSPAG Community\, \nOn behalf of the Asian Oceanic Society of Paediatric & Adolescent Gynaecology (AOSPAG)\, we are delighted to invite you to the 2nd AOSPAG Congress\, taking place from 11-13 September 2025 at the Holiday Inn Bangsar\, Kuala Lumpur\, Malaysia. AOSPAG-Flyer \nThis congress will serve as a unique platform for healthcare professionals\, researchers\, and experts in paediatric and adolescent gynaecology to engage in insightful discussions\, share pioneering research\, and foster collaboration across the region. \nWhy Attend?\n\n Engage with leading experts in paediatric and adolescent gynaecology\nParticipate in interactive workshops and symposia\nStay updated with the latest research and best clinical practices\nNetwork with peers from across the Asia-Oceanic region\nPresent your research – Call for Abstracts open from 1st March 2025 – 30th April 2025\n\nKey Highlights\n\n Workshops on Vaginoscopy\, 3D Ultrasonography\, Sexual Abuse Management & Hormonal Therapy\nExpert-led sessions on menstrual disorders\, endometriosis\, fertility preservation\, adolescent contraception\, and more\nOpportunities for oral and e-poster presentations\nMMA CPD points awarded for participants\n\nRegistration Details\nEarly Bird Registration (Before 31 May 2025): \n\nInternational Delegates: USD 300\nNurses: USD 150\n\nRegular Registration (From 1 June 2025): \n\nInternational Delegates: USD 400\nNurses: USD 250\nRegister Now: www.aospag.com\n\nWe sincerely hope you can join us for this prestigious event to advance the field of paediatric and adolescent gynaecology. Feel free to share this invitation with colleagues who may be interested. \nFor further details\, visit our website or contact us at info@aospag.com. \nLooking forward to welcoming you to Malaysia in 2025! \nBest regards\,\nKaren Ng (General Secretary of AOSPAG) for \nProf Ani Amelia Zainuddin (President of AOSPAG) and \nProf Nur Azurah Abdul Ghani (Chairperson of the 2nd AOSPAG Conference) \n  \nAOSPAG-Flyer-V5.0 \n 
URL:https://figij.org/event/2nd-aospag-congress/
LOCATION:Kuala Lumpur\, Malaysia\, Holiday Inn Bangsar\, Kuala Lumpur\, Kuala Lumpur\, Malaysia
CATEGORIES:Conferences,Congresses
ATTACH;FMTTYPE=image/png:https://figij.org/wp-content/uploads/2025/03/Screenshot-2025-03-24-at-2.01.53 PM.png
ORGANIZER;CN="AOSPAG":MAILTO:info@aospag.com
GEO:3.1268192;101.6759213
X-APPLE-STRUCTURED-LOCATION;VALUE=URI;X-ADDRESS=Kuala Lumpur Malaysia Holiday Inn Bangsar Kuala Lumpur Kuala Lumpur Malaysia;X-APPLE-RADIUS=500;X-TITLE=Holiday Inn Bangsar:geo:101.6759213,3.1268192
END:VEVENT
BEGIN:VEVENT
DTSTART;VALUE=DATE:20251005
DTEND;VALUE=DATE:20251010
DTSTAMP:20260420T034039
CREATED:20250421T132752Z
LAST-MODIFIED:20250421T132752Z
UID:10000080-1759622400-1760054399@figij.org
SUMMARY:XXV FIGO World Congress of Gynecology and Obstetrics
DESCRIPTION:Advancing women’s health: a journey of unity and freedom\n\n\n\n\n\n\n\n\n\n\nFIGO Cape Town 2025 will provide a global platform for participating delegates and organisations to learn\, share\, exchange ideas\, build alliances and propose solutions to the challenges facing women and girls’ health and rights. \nLocal\, regional and international thought leaders will unite with 8\,000+ delegates at FIGO’s world-leading event in Cape Town. Together\, we will advance the science and practice of obstetrics and gynaecology. Together\, we will stand up\, speak out and call for urgent action to improve and protect comprehensive health access and rights. And so together\, we will move forward in our collective journey to build a better future for women\, girls and newborns worldwide. \n\n\n\n\n\nThe International Federation of Gynecology and Obstetrics (FIGO)\n\n\n\n\n\n\n\n\n\n\nFIGO is a professional membership organisation that brings together 130+ obstetrical and gynaecological associations from around the world. FIGO’s vision is that women of the world achieve the highest possible standards of physical\, mental\, reproductive and sexual health and wellbeing throughout their lives. Our work to achieve this vision is built on four pillars: education\, research implementation\, advocacy and capacity building. \nFIGO leads on global programme activities\, with a particular focus on sub-Saharan Africa and South East Asia. We advocate on the global stage\, working to raise the status of women and enable their active participation in achieving their reproductive and sexual rights. We provide education and training for our Member Societies and build capacities of those in low-resource countries through strengthening leadership\, translating and disseminating good practice and promoting policy dialogues. \nFIGO is in official relations with the World Health Organization and consultative status with the United Nations. \n\n\n\n\n\n\n\n\n\n\nFIGO 2025
URL:https://figij.org/event/xxv-figo-world-congress-of-gynecology-and-obstetrics/
LOCATION:Cape Town\, South Africa\, 2 Lower Loop St\, Cape Town City Centre\, Cape Town\, 8001\, South Africa
CATEGORIES:Conferences,Congresses
ATTACH;FMTTYPE=image/png:https://figij.org/wp-content/uploads/2025/04/Screenshot-2025-04-21-at-9.21.47 AM.png
GEO:45.409941;-122.613757
X-APPLE-STRUCTURED-LOCATION;VALUE=URI;X-ADDRESS=Cape Town South Africa 2 Lower Loop St Cape Town City Centre Cape Town 8001 South Africa;X-APPLE-RADIUS=500;X-TITLE=2 Lower Loop St:geo:-122.613757,45.409941
END:VEVENT
BEGIN:VEVENT
DTSTART;VALUE=DATE:20251105
DTEND;VALUE=DATE:20251108
DTSTAMP:20260420T034039
CREATED:20250424T134737Z
LAST-MODIFIED:20250424T134737Z
UID:10000082-1762300800-1762559999@figij.org
SUMMARY:IAHR WORKSHOP: The Adolescence: A Challenging Time for Physical\, Mental and  Social Health and Diseases
DESCRIPTION:FIGIJ\, for your important endorsement\, a 20% discount is granted to all the FIGIJ members who will register using the code figij20. These are the instructions to share:\n\n\nClick on the following link to visit the website: https://www.adolescence2025.com/\nCreate an account\nGo to the registration section\nEnter the discount code figij20 in the designated field\n\n\nNovember 5 – 7\, Athens\, Greece \nRedefining how healthcare professionals approach adolescent health\, emphasizing its profound influence on future well-being \nThis workshop aims to offer a groundbreaking\, interdisciplinary perspective on adolescence\, acknowledging the intricate interplay between genetics\, metabolism\, nutrition\, psychological health\, and environmental influences. \n\n\nTraditionally\, medical education has addressed this phase through distinct and often isolated lenses: physiological changes from a pediatric\, andocrinologic and gynecological perspective\, psychological development through psychiatry and psychology. Too often\, it overlooks the fact that this is also the period of sexual development\, a stage where its sometimes dramatic consequences emerge\, exacerbated by a society that fails to provide adequate support on this critical issue. However\, such a segmented approach does not fully capture the complexity of this transformative period. \n\n\n\n\n\nBringing together experts from pediatrics\, endocrinology\, gynecology\, psychology\, psychiatry\, and social sciences\, this event fosters collaboration to develop comprehensive medical and psychological support strategies. Sessions will feature focused lectures and interactive discussions\, with networking opportunities to encourage cross-disciplinary exchange.\nBy rethinking adolescence through an integrated lens\, this workshop aims to redefine how healthcare professionals approach adolescent health\, emphasizing its profound influence on future well-being.
URL:https://figij.org/event/iahr-workshop-the-adolescence-a-challenging-time-for-physical-mental-and-social-health-and-diseases/
LOCATION:Athens\, Greece\, Athens\, Greece
CATEGORIES:Conferences,Congresses
ATTACH;FMTTYPE=image/png:https://figij.org/wp-content/uploads/2025/04/sito-bt-1.png
GEO:37.9838096;23.7275388
END:VEVENT
BEGIN:VEVENT
DTSTART;VALUE=DATE:20251128
DTEND;VALUE=DATE:20251201
DTSTAMP:20260420T034039
CREATED:20251103T185849Z
LAST-MODIFIED:20251120T141729Z
UID:10000088-1764288000-1764547199@figij.org
SUMMARY:West Lake International PAG Scientific Conference
DESCRIPTION:Join global experts in Paediatric & Adolescent Gynaecology (PAG) for an inspiring 3-day scientific exchange by the beautiful West Lake. \nTopics include: \n\nMüllerian anomalies\nDisorders of sex development\nGenital inflammation\nGynecological oncology\nFertility preservation\nOther related PAG conditions\n\nChairperson: Prof. Sun Liying \ninternational delegate Inquiries\, please contact: drleekmei@gmail.com \nInternational attendees are sponsored! \nLet’s advance the future of young women’s health together
URL:https://figij.org/event/west-lake-international-pag-scientific-conference/
LOCATION:Hangzhou\, China\, Hangzhou\, China
CATEGORIES:Conferences,Congresses
ATTACH;FMTTYPE=image/jpeg:https://figij.org/wp-content/uploads/2025/11/IMG_0087.jpg
GEO:30.2741499;120.15515
END:VEVENT
END:VCALENDAR