BEGIN:VCALENDAR
VERSION:2.0
PRODID:-//Federation Internationale de Gynecologie Infantile et Juvenile - ECPv6.15.20//NONSGML v1.0//EN
CALSCALE:GREGORIAN
METHOD:PUBLISH
X-WR-CALNAME:Federation Internationale de Gynecologie Infantile et Juvenile
X-ORIGINAL-URL:https://figij.org
X-WR-CALDESC:Events for Federation Internationale de Gynecologie Infantile et Juvenile
REFRESH-INTERVAL;VALUE=DURATION:PT1H
X-Robots-Tag:noindex
X-PUBLISHED-TTL:PT1H
BEGIN:VTIMEZONE
TZID:UTC
BEGIN:STANDARD
TZOFFSETFROM:+0000
TZOFFSETTO:+0000
TZNAME:UTC
DTSTART:20240101T000000
END:STANDARD
END:VTIMEZONE
BEGIN:VTIMEZONE
TZID:Asia/Hong_Kong
BEGIN:STANDARD
TZOFFSETFROM:+0800
TZOFFSETTO:+0800
TZNAME:HKT
DTSTART:20240101T000000
END:STANDARD
END:VTIMEZONE
BEGIN:VTIMEZONE
TZID:Asia/Shanghai
BEGIN:STANDARD
TZOFFSETFROM:+0800
TZOFFSETTO:+0800
TZNAME:CST
DTSTART:20240101T000000
END:STANDARD
END:VTIMEZONE
BEGIN:VEVENT
DTSTART;VALUE=DATE:20250403
DTEND;VALUE=DATE:20250406
DTSTAMP:20260419T160325
CREATED:20240614T162403Z
LAST-MODIFIED:20240614T162403Z
UID:10000065-1743638400-1743897599@figij.org
SUMMARY:39th Annual Clinical & Research Meeting (NASPAG)
DESCRIPTION:
URL:https://figij.org/event/39th-annual-clinical-research-meeting-naspag/
LOCATION:Toronto\, Ontario\, Toronto\, Ontario\, Canada
CATEGORIES:Conferences,Congresses
GEO:43.653226;-79.3831843
END:VEVENT
BEGIN:VEVENT
DTSTART;TZID=Asia/Hong_Kong:20250403T190000
DTEND;TZID=Asia/Hong_Kong:20250403T203000
DTSTAMP:20260419T160325
CREATED:20250313T132435Z
LAST-MODIFIED:20250313T132543Z
UID:10000075-1743706800-1743712200@figij.org
SUMMARY:Understanding Fertility in Differences in Sex Development AOSPAG Webinar
DESCRIPTION:Dear Members of the AOSPAG & FIGIJ Community\, \nWe are thrilled to invite you to the monthly Asia Oceanic Society of Paediatric and Adolescent Gynaecology (AOSPAG) International Webinar Series\, hosted by Hong Kong\, China. \nTopic: “Understanding Fertility in Differences in Sex Development” \nWe will cover fertility in DSDs including congenital adrenal hyperplasia and Turner Syndrome. \nSpeakers \nProf Caitlyn Lau\, Clinical Assistant Professor\, The Chinese University of Hong Kong \nDr Patricia Ip\, Clinical Assistant Professor (Honorary)\, The Chinese University of Hong Kong \nDr Nikki Li\, Clinical Lecturer\, The Chinese University of Hong Kong \nDr Karen Ng\, Clinical Associate Professor (Honorary)\, The Chinese University of Hong Kong \nDate: 3 April 2025 | Thu (GMT +8) 17:00 – 18:30 \nPlease click the link below or scan the QR code on the attached poster to register for the webinar:   \nhttps://cloud.itsc.cuhk.edu.hk/webform/view.php?id=13705873 \nTime: \n– China / Hong Kong / Malaysia / Philippines: 17:00 \n– Pakistan: 14:00 \n– India: 14:30 \n– Bangladesh: 15:00 \n– Japan / South Korea: 18:00 \n– Melbourne\, Australia: 20:00 \n– New Zealand: 22:00 \nWe look forward to seeing you all! \nBest regards\, \nKaren Ng (General Secretary of AOSPAG) for Prof Ani Amelia Dato’ Zainuddin (President of AOSPAG)
URL:https://figij.org/event/understanding-fertility-in-differences-in-sex-development-aospag-webinar/
CATEGORIES:Conferences
END:VEVENT
BEGIN:VEVENT
DTSTART;TZID=Asia/Shanghai:20250403T190000
DTEND;TZID=Asia/Shanghai:20250403T203000
DTSTAMP:20260419T160325
CREATED:20250331T165429Z
LAST-MODIFIED:20250331T165429Z
UID:10000077-1743706800-1743712200@figij.org
SUMMARY:AOSPAG Webinar: Understanding Fertility in Differences in Sex Development
DESCRIPTION:Dear Members of the AOSPAG Community\, \nFriendly reminder for our upcoming monthly Asia Oceanic Society of Paediatric and Adolescent Gynaecology (AOSPAG) International Webinar Series\, which will be hosted by Hong Kong\, China. \nTopic: “Understanding Fertility in Differences in Sex Development” \nWe will cover fertility in DSDs including congenital adrenal hyperplasia and Turner Syndrome. \n  \nSpeakers \nProf Caitlyn Lau\, Clinical Assistant Professor\, The Chinese University of Hong Kong \nDr Patricia Ip\, Clinical Assistant Professor (Honorary)\, The Chinese University of Hong Kong \nDr Nikki Li\, Clinical Lecturer\, The Chinese University of Hong Kong \nDr Karen Ng\, Clinical Associate Professor (Honorary)\, The Chinese University of Hong Kong \n  \nDate: 3 April 2025 | Thu (GMT +8) 17:00 – 18:30 \nPlease click the link below or scan the QR code on the attached poster to register for the webinar:   \nhttps://cloud.itsc.cuhk.edu.hk/webform/view.php?id=13705873 \n  \nTime: \n– China / Hong Kong / Malaysia / Philippines: 17:00 \n– Pakistan: 14:00 \n– India: 14:30 \n– Bangladesh: 15:00 \n– Japan / South Korea: 18:00 \n– Melbourne\, Australia: 20:00 \n– New Zealand: 22:00 \nWe look forward to seeing you all! \nBest regards\, \nKaren Ng (General Secretary of AOSPAG) for Prof Ani Amelia Dato’ Zainuddin (President of AOSPAG)
URL:https://figij.org/event/aospag-webinar-understanding-fertility-in-differences-in-sex-development/
CATEGORIES:Conferences,Congresses
ORGANIZER;CN="AOSPAG":MAILTO:info@aospag.com
END:VEVENT
END:VCALENDAR