BEGIN:VCALENDAR
VERSION:2.0
PRODID:-//Federation Internationale de Gynecologie Infantile et Juvenile - ECPv6.15.20//NONSGML v1.0//EN
CALSCALE:GREGORIAN
METHOD:PUBLISH
X-WR-CALNAME:Federation Internationale de Gynecologie Infantile et Juvenile
X-ORIGINAL-URL:https://figij.org
X-WR-CALDESC:Events for Federation Internationale de Gynecologie Infantile et Juvenile
REFRESH-INTERVAL;VALUE=DURATION:PT1H
X-Robots-Tag:noindex
X-PUBLISHED-TTL:PT1H
BEGIN:VTIMEZONE
TZID:Asia/Shanghai
BEGIN:STANDARD
TZOFFSETFROM:+0800
TZOFFSETTO:+0800
TZNAME:CST
DTSTART:20240101T000000
END:STANDARD
END:VTIMEZONE
BEGIN:VTIMEZONE
TZID:UTC
BEGIN:STANDARD
TZOFFSETFROM:+0000
TZOFFSETTO:+0000
TZNAME:UTC
DTSTART:20240101T000000
END:STANDARD
END:VTIMEZONE
BEGIN:VEVENT
DTSTART;TZID=Asia/Shanghai:20250504T180000
DTEND;TZID=Asia/Shanghai:20250504T183000
DTSTAMP:20260419T142942
CREATED:20250421T133401Z
LAST-MODIFIED:20250421T133401Z
UID:10000081-1746381600-1746383400@figij.org
SUMMARY:AOSPAG Webinar: Diagnosis and Management of Precocious Puberty in Girls – Case Series
DESCRIPTION:Dear Members of the AOSPAG Community\, \nWe are pleased to invite you to the upcoming monthly AOSPAG educational webinar hosted by Zhejiang\, China: \nTopic: Diagnosis and Management of Precocious Puberty in Girls – Case Series\nDate: May 8th\, 2025 (Wednesday)\nTime: 18:00 (GMT+8) \nCorresponding Time Zones: \n\nChina / Hong Kong / Malaysia / Philippines: 18:00\nPakistan: 15:00\nIndia: 15:30\nBangladesh: 16:00\nJapan / South Korea: 19:00\nMelbourne\, Australia: 20:00\nNew Zealand: 22:00\n\nPlatform: Zoom\nJoin via Zoom: https://cuhk.zoom.us/j/97992937500?pwd=8RHljCff0szJbdTaJi0IFa1b4DAEUj.1\nMeeting ID: 979 9293 7500\nPasscode: 856157 \n Chairman\nDr Sun Liying\, Lynn\nDirector of PAG Department\, Chief Physician\nThe Children’s Hospital of Zhejiang University of Medicine \n Moderator\nDr Leek Mei Lim\nClinical Fellow in Reproductive Medicine (Ministry of Health\, Malaysia)\nSpecial Interest in PAG\, The Children’s Hospital of Zhejiang University of Medicine \n Speakers \n\nDr Gao Huihui\, Amy\nAssistant Director\, PAG Department\nClinical Associate Physician\, The Children’s Hospital of Zhejiang University of Medicine\nDr Shen Qiuxiang\, Fiona\nAttending Physician\, The Children’s Hospital of Zhejiang University of Medicine\nDr Zhang Junwen\nAttending Physician\, The Children’s Hospital of Zhejiang University of Medicine\nDr Zhuli\nAttending Physician\, The Children’s Hospital of Zhejiang University of Medicine\n\nWe warmly welcome all AOSPAG members to join this session and share in this opportunity for regional knowledge exchange and discussion. \nFor more details\, please refer to the attached poster.\nLet’s continue learning and growing together as a PAG community! \nWarm regards\, \nKaren Ng (Honorary Secretary of AOSPAG) for Dr Ani Amelia Zainuddin (President of AOSPAG)
URL:https://figij.org/event/aospag-webinar-diagnosis-and-management-of-precocious-puberty-in-girls-case-series/
CATEGORIES:Conferences,Congresses
ATTACH;FMTTYPE=image/jpeg:https://figij.org/wp-content/uploads/2025/04/AOSPAG-Poster_202505-scaled.jpg
END:VEVENT
BEGIN:VEVENT
DTSTART;TZID=UTC:20250519T080000
DTEND;TZID=UTC:20250519T170000
DTSTAMP:20260419T142942
CREATED:20250519T220645Z
LAST-MODIFIED:20250519T220645Z
UID:10000083-1747641600-1747674000@figij.org
SUMMARY:Mind Over Matter: Digging Deeper into the Psychosocial Challenges of Adolescents at Risk for PCOS
DESCRIPTION:Dear Members of the AOSPAG Community\, \nWe are pleased to invite you to the upcoming Asia-Oceanic Society of Paediatric and Adolescent Gynecology (AOSPAG) webinar titled: \n Mind Over Matter: Digging Deeper into the Psychosocial Challenges of Adolescents at Risk for PCOS \nThis important session is hosted by the Pediatric and Adolescent Gynecology Society of the Philippines (PAGSPHIL) and will feature expert insights into the mental and emotional health challenges faced by adolescents with PCOS. \nDate: June 5\, 2025\nTime: 5:00 PM – 7:00 PM (GMT+8) \n\n\n\nLocal Time\nLocations\n\n\n\n\n\n\n2:00 PM – 4:00 PM\nPakistan\n\n\n\n\n\n\n2:30 PM – 4:30 PM\nIndia\n\n\n\n\n\n\n3:00 PM – 5:00 PM\nBangladesh\n\n\n\n\n\n\n4:00 PM – 6:00 PM\nIndonesia (Jakarta)\n\n\n\n\n\n\n5:00 PM – 7:00 PM\nChina\, Hong Kong\, Malaysia\, Philippines\n\n\n\n\n\n\n6:00 PM – 8:00 PM\nJapan\, South Korea\n\n\n\n\n\n\n7:00 PM – 9:00 PM\nAustralia (Melbourne)\n\n\n\n\n\n\n9:00 PM – 11:00 PM\nNew Zealand\n\n\n\nJoin via Zoom:\nClick here to join the meeting \n<link: https://us02web.zoom.us/j/88452142363?pwd=bwTruAbmlif5tOaKhAXtubSaLy6XCC.1> \nMeeting ID: 884 5214 2363\nPasscode: 788811 \n Presenter:\nDr. Kia Angela B. Gargantiel – PAG Fellow-in-Training \n Reactors:\nDr. Ralph Stephenson C. Tan – Adolescent Medicine Specialist\nDr. Angeline G. Santos – Pediatric and Adolescent Gynecology Specialist \n Moderator:\nDr. Rosielix E. David – Pediatric and Adolescent Gynecology Specialist \nCan’t join via Zoom? Watch the livestream on Facebook:\nPAGSPHIL Official Facebook Page \nWe look forward to your participation in this engaging and meaningful discussion. \nWarm regards\,\nDr Karen Ng\, Honorary Secretary of AOSPAG for Dr Ani Amelia Zainuddin\, President of AOSPAG
URL:https://figij.org/event/mind-over-matter-digging-deeper-into-the-psychosocial-challenges-of-adolescents-at-risk-for-pcos/
CATEGORIES:Conferences,Congresses
ATTACH;FMTTYPE=image/jpeg:https://figij.org/wp-content/uploads/2025/05/2025_06-Poster.jpg
END:VEVENT
END:VCALENDAR