BEGIN:VCALENDAR
VERSION:2.0
PRODID:-//Federation Internationale de Gynecologie Infantile et Juvenile - ECPv6.15.20//NONSGML v1.0//EN
CALSCALE:GREGORIAN
METHOD:PUBLISH
X-ORIGINAL-URL:https://figij.org
X-WR-CALDESC:Events for Federation Internationale de Gynecologie Infantile et Juvenile
REFRESH-INTERVAL;VALUE=DURATION:PT1H
X-Robots-Tag:noindex
X-PUBLISHED-TTL:PT1H
BEGIN:VTIMEZONE
TZID:UTC
BEGIN:STANDARD
TZOFFSETFROM:+0000
TZOFFSETTO:+0000
TZNAME:UTC
DTSTART:20240101T000000
END:STANDARD
END:VTIMEZONE
BEGIN:VEVENT
DTSTART;VALUE=DATE:20251105
DTEND;VALUE=DATE:20251108
DTSTAMP:20260419T144423
CREATED:20250424T134737Z
LAST-MODIFIED:20250424T134737Z
UID:10000082-1762300800-1762559999@figij.org
SUMMARY:IAHR WORKSHOP: The Adolescence: A Challenging Time for Physical\, Mental and  Social Health and Diseases
DESCRIPTION:FIGIJ\, for your important endorsement\, a 20% discount is granted to all the FIGIJ members who will register using the code figij20. These are the instructions to share:\n\n\nClick on the following link to visit the website: https://www.adolescence2025.com/\nCreate an account\nGo to the registration section\nEnter the discount code figij20 in the designated field\n\n\nNovember 5 – 7\, Athens\, Greece \nRedefining how healthcare professionals approach adolescent health\, emphasizing its profound influence on future well-being \nThis workshop aims to offer a groundbreaking\, interdisciplinary perspective on adolescence\, acknowledging the intricate interplay between genetics\, metabolism\, nutrition\, psychological health\, and environmental influences. \n\n\nTraditionally\, medical education has addressed this phase through distinct and often isolated lenses: physiological changes from a pediatric\, andocrinologic and gynecological perspective\, psychological development through psychiatry and psychology. Too often\, it overlooks the fact that this is also the period of sexual development\, a stage where its sometimes dramatic consequences emerge\, exacerbated by a society that fails to provide adequate support on this critical issue. However\, such a segmented approach does not fully capture the complexity of this transformative period. \n\n\n\n\n\nBringing together experts from pediatrics\, endocrinology\, gynecology\, psychology\, psychiatry\, and social sciences\, this event fosters collaboration to develop comprehensive medical and psychological support strategies. Sessions will feature focused lectures and interactive discussions\, with networking opportunities to encourage cross-disciplinary exchange.\nBy rethinking adolescence through an integrated lens\, this workshop aims to redefine how healthcare professionals approach adolescent health\, emphasizing its profound influence on future well-being.
URL:https://figij.org/event/iahr-workshop-the-adolescence-a-challenging-time-for-physical-mental-and-social-health-and-diseases/
LOCATION:Athens\, Greece\, Athens\, Greece
CATEGORIES:Conferences,Congresses
ATTACH;FMTTYPE=image/png:https://figij.org/wp-content/uploads/2025/04/sito-bt-1.png
GEO:37.9838096;23.7275388
END:VEVENT
BEGIN:VEVENT
DTSTART;VALUE=DATE:20251128
DTEND;VALUE=DATE:20251201
DTSTAMP:20260419T144423
CREATED:20251103T185849Z
LAST-MODIFIED:20251120T141729Z
UID:10000088-1764288000-1764547199@figij.org
SUMMARY:West Lake International PAG Scientific Conference
DESCRIPTION:Join global experts in Paediatric & Adolescent Gynaecology (PAG) for an inspiring 3-day scientific exchange by the beautiful West Lake. \nTopics include: \n\nMüllerian anomalies\nDisorders of sex development\nGenital inflammation\nGynecological oncology\nFertility preservation\nOther related PAG conditions\n\nChairperson: Prof. Sun Liying \ninternational delegate Inquiries\, please contact: drleekmei@gmail.com \nInternational attendees are sponsored! \nLet’s advance the future of young women’s health together
URL:https://figij.org/event/west-lake-international-pag-scientific-conference/
LOCATION:Hangzhou\, China\, Hangzhou\, China
CATEGORIES:Conferences,Congresses
ATTACH;FMTTYPE=image/jpeg:https://figij.org/wp-content/uploads/2025/11/IMG_0087.jpg
GEO:30.2741499;120.15515
END:VEVENT
END:VCALENDAR