BEGIN:VCALENDAR
VERSION:2.0
PRODID:-//Federation Internationale de Gynecologie Infantile et Juvenile - ECPv6.15.20//NONSGML v1.0//EN
CALSCALE:GREGORIAN
METHOD:PUBLISH
X-ORIGINAL-URL:https://figij.org
X-WR-CALDESC:Events for Federation Internationale de Gynecologie Infantile et Juvenile
REFRESH-INTERVAL;VALUE=DURATION:PT1H
X-Robots-Tag:noindex
X-PUBLISHED-TTL:PT1H
BEGIN:VTIMEZONE
TZID:UTC
BEGIN:STANDARD
TZOFFSETFROM:+0000
TZOFFSETTO:+0000
TZNAME:UTC
DTSTART:20250101T000000
END:STANDARD
END:VTIMEZONE
BEGIN:VEVENT
DTSTART;VALUE=DATE:20260122
DTEND;VALUE=DATE:20260123
DTSTAMP:20260419T173243
CREATED:20260105T171830Z
LAST-MODIFIED:20260105T171830Z
UID:10000090-1769040000-1769126399@figij.org
SUMMARY:AOSPAG Webinar– Challenges in Management of Müllerian Anomalies
DESCRIPTION:Challenges in Management of Müllerian Anomalies (General Review and Case Discussion) \nHosted by our colleagues from Saudi Arabia \nDate: Thursday\, 22 January 2026\nPlatform: Zoom (Online) \nTime:\n• 1:00 PM – Kingdom of Saudi Arabia (KSA) | UTC +3\n• 4:00 PM – Bangladesh\n• 3:30 PM – India\n• 3:00 PM – Pakistan\n• 5:00 PM – Western Indonesia (Jakarta)\n• 6:00 PM – Central Indonesia (Bali\, Makassar)\n• 7:00 PM – Eastern Indonesia (Papua)\n• 6:00 PM – China\, Malaysia\, Philippines\n• 7:00 PM – Japan\, South Korea\n• 9:00 PM – Melbourne\, Australia\n• 11:00 PM – New Zealand \nSpeakers:\n• Dr. Hanan AlShankiti\nConsultant\, Urogynecology / Pediatric and Adolescent Gynecology \n• Dr. Norah Alfayez\nObstetrics and Gynecology Resident \nThis webinar will provide a comprehensive overview of Müllerian anomalies\, discuss challenges in diagnosis and management\, and include interactive case discussions relevant to clinical practice. \nZoom Meeting Details:\nMeeting ID: 753 3144 5857\nPasscode: 5Ny1ET \nPlease refer to the attached flyer for QR codes to join the Zoom meeting\, SIP access\, and detailed joining instructions. \nWe look forward to your participation in this valuable scientific session.\nAttached to this email is the flyer with the QR codes to  join this exciting webinar\nWarm regards\, \nThank you \nJerilee Azhary\nSecretary of AOSPAG\nOn behalf of the President\, Dr Karen Ng
URL:https://figij.org/event/aospag-webinar-challenges-in-management-of-mullerian-anomalies/
CATEGORIES:Conferences,Congresses
ATTACH;FMTTYPE=image/png:https://figij.org/wp-content/uploads/2026/01/image.png
END:VEVENT
END:VCALENDAR