BEGIN:VCALENDAR
VERSION:2.0
PRODID:-//Federation Internationale de Gynecologie Infantile et Juvenile - ECPv6.15.20//NONSGML v1.0//EN
CALSCALE:GREGORIAN
METHOD:PUBLISH
X-ORIGINAL-URL:https://figij.org
X-WR-CALDESC:Events for Federation Internationale de Gynecologie Infantile et Juvenile
REFRESH-INTERVAL;VALUE=DURATION:PT1H
X-Robots-Tag:noindex
X-PUBLISHED-TTL:PT1H
BEGIN:VTIMEZONE
TZID:Asia/Shanghai
BEGIN:STANDARD
TZOFFSETFROM:+0800
TZOFFSETTO:+0800
TZNAME:CST
DTSTART:20250101T000000
END:STANDARD
END:VTIMEZONE
BEGIN:VTIMEZONE
TZID:UTC
BEGIN:STANDARD
TZOFFSETFROM:+0000
TZOFFSETTO:+0000
TZNAME:UTC
DTSTART:20250101T000000
END:STANDARD
END:VTIMEZONE
BEGIN:VEVENT
DTSTART;TZID=Asia/Shanghai:20260309T170000
DTEND;TZID=Asia/Shanghai:20260309T180000
DTSTAMP:20260419T200109
CREATED:20260309T150157Z
LAST-MODIFIED:20260309T153421Z
UID:10000091-1773075600-1773079200@figij.org
SUMMARY:Navigating Paediatric and Adolescent Gynaecology: From Benign Vulval Conditions to Safeguarding Workflows
DESCRIPTION:You are cordially invited to the upcoming joint webinar organised by the Asia Oceanic Society of Paediatric and Adolescent Gynaecology (AOSPAG)\, the British Society for Paediatric & Adolescent Gynaecology (BritSPAG) and CUHKOBG: \nNavigating Paediatric and Adolescent Gynaecology: From Benign Vulval Conditions to Safeguarding Workflows \nDate: Friday\, 10 April 2026\nTime: 17:00 – 18:00 (UTC+8) | 09:00 – 10:00 (UTC+0)\nFormat: Zoom Webinar \nSpeakers & Topics \nDr. Cara Williams\nPresident\, British Society for Paediatric & Adolescent Gynaecology (BritSPAG)\nConsultant Gynaecologist\, Liverpool Women’s Hospital & Alder Hey Children’s Hospital\nTopic: Itchy\, Sore and More: A Peek at Paediatric Vulval Woes \nDr. Karen Ng\nPresident\, Asia Oceanic Society of Paediatric and Adolescent Gynaecology (AOSPAG)\nConsultant in Obstetrics & Gynaecology\, Prince of Wales Hospital & Hong Kong Children’s Hospital\nTopic: Beyond the Examination: Identifying Suspected Sexual Abuse and Establishing Clinical Workflows in PAG \nAccreditation \n\n1 iCME point (HKCOG)\n1 CNE point (CUHKOG)\n1 CEM point (CUHKOG)\n\nShould you have any enquiries\, please feel free to contact us. \nWe look forward to welcoming you to this insightful webinar. \n\n Registration NOW \nBest Regards\, \nWebinar Secretariat \nDepartment of Obstetrics & Gynaecology \nFaculty of Medicine \nThe Chinese University of Hong Kong \nTel: (852) 3505 1534 | Fax: (852) 2636 0008 | Email: cuogevents@cuhk.edu.hk \nAddress: 1/F\, Old Block (EF Wing)\, Department of Obstetrics & Gynaecology\, \nPrince of Wales Hospital\, Shatin\, Hong Kong \nWebsite: http://www.obg.cuhk.edu.hk/
URL:https://figij.org/event/navigating-paediatric-and-adolescent-gynaecology-from-benign-vulval-conditions-to-safeguarding-workflows/
CATEGORIES:Conferences,Congresses
ATTACH;FMTTYPE=image/png:https://figij.org/wp-content/uploads/2026/03/image006.png
ORGANIZER;CN="AOSPAG":MAILTO:info@aospag.com
END:VEVENT
BEGIN:VEVENT
DTSTART;VALUE=DATE:20260311
DTEND;VALUE=DATE:20260314
DTSTAMP:20260419T200109
CREATED:20260102T151100Z
LAST-MODIFIED:20260102T151100Z
UID:10000089-1773187200-1773446399@figij.org
SUMMARY:National and International Experience in Protecting the Reproductive Health of Children and Youth
DESCRIPTION:Dear Colleagues\, \nWe are honored to invite you to the 5th Anniversary Scientific and Practical Conference with International Participation\, entitled\n“National and International Experience in Protecting the Reproductive Health of Children and Youth” \nwhich will take place on 11–13 March 2026 at the V.I. Kulakov National Medical Research Center for Obstetrics\, Gynecology and Perinatology\, Ministry of Health of the Russian Federation (Moscow\, Russia). \nKey Topics \nThe conference will focus on contemporary approaches to the organization and delivery of specialized medical care for inflammatory and non-inflammatory diseases of the reproductive organs in children and adolescents of both sexes. A key component of the scientific program will address diagnosis\, correction\, restorative treatment\, and rehabilitation of children\, adolescents\, and young adults with disorders of sexual development\, functional impairments\, and diseases of the reproductive system. \nSpecial emphasis will be placed on innovative therapeutic and surgical technologies aimed at restoring the function of the reproductive and related organs in cases of developmental anomalies\, trauma\, benign and malignant neoplasms of the genital organs and mammary glands. The program will also highlight advances in imaging and laboratory diagnostics\, as well as the psychological aspects of childhood and adolescence. \nPlease note that if your visit to Russia during the conference is difficult\, we are ready to accept your presentation online. \nConference organizing committee chairs: \nG. T. Sukhikh – Academician of the Russian Academy of Sciences\nE. V. Uvarova – Professor\, corresponding member of Russian Academy of Sciences\, Chief External Expert in Pediatric and Adolescent Gynecology\, Head of the Second Gynecology Department V.I. Kulakov National Medical Research Center for Obstetrics\, Gynecology and Perinatology Ministry of Health of the Russian Federation (Moscow\, Russia)                                                                                                                                    D. A. Morozov – Professor\, External Expert in Surgeon of the Ministry of Health of Russia \nThe conference welcomes participation from a wide range of specialists involved in the care of children and young people\, including obstetricians-gynecologists\, pediatric gynecologists\, pediatric urologists-andrologists\, urologists\, pediatric endocrinologists\, surgeons\, pediatric surgeons\, geneticists\, oncologists\, psychotherapists\, medical psychologists\, pediatricians\, general practitioners\, and public health specialists\, as well as researchers from Russia\, the \n\n\n\n\n\nCIS countries\, and international experts representing leading universities\, clinics\, and medical centers worldwide. \nOn 12 March 2026\, the program will include a Young Scientists Competition\, as well as a joint meeting of chief external specialists in pediatric and adolescent gynecology\, pediatric urology-andrology\, pediatric surgery\, and pediatric endocrinology of the constituent entities of the Russian Federation\, together with academic faculty members and healthcare administrators. \nHands-on workshops and practical training sessions will be held daily from 08:30 to 10:00\, prior to the main scientific program: \n\n11–12 March 2026: Liquid hysteroscopy and vaginoscopy in pediatric and adolescent gynecology\n13 March 2026: Mammology in children and adolescents Conference registration:\nhttps://www.mediexpo.ru/calendar/forums/orzd-2026/index/ \nSubmission of applications for oral presentations (original research or clinical case reports\, 7 minutes) should be sent to the Scientific Committee by 16 January 2026 via the website or by email. \nFor inquiries regarding participation and presentations by international colleagues\, please contact:\nElena P. Khashchenko\nE-mail: khashchenko_elena@mail.ru \nThe conference also provides an opportunity for free publication of abstracts for registered participants. Abstracts must meet the established requirements and be submitted by 20 February 2026 via the conference website. \nWe would greatly appreciate your assistance in sharing this invitation with colleagues who may be interested in participating in the conference.\n\n\n\n\n\nWe look forward to welcoming you to Moscow in March 2026. \nWith highest regards\, \nOrganizing Committee
URL:https://figij.org/event/national-and-international-experience-in-protecting-the-reproductive-health-of-children-and-youth/
LOCATION:Moscow\, Russia\, st. Academician Oparina\, 4\, Moscow\, Russian Federation
CATEGORIES:Conferences,Congresses
ATTACH;FMTTYPE=image/png:https://figij.org/wp-content/uploads/2026/01/Screenshot-2026-01-02-at-10.09.26-AM.png
GEO:55.8008674;37.7140876
X-APPLE-STRUCTURED-LOCATION;VALUE=URI;X-ADDRESS=Moscow Russia st. Academician Oparina 4 Moscow Russian Federation;X-APPLE-RADIUS=500;X-TITLE=st. Academician Oparina\, 4:geo:37.7140876,55.8008674
END:VEVENT
END:VCALENDAR