BEGIN:VCALENDAR
VERSION:2.0
PRODID:-//Federation Internationale de Gynecologie Infantile et Juvenile - ECPv6.15.20//NONSGML v1.0//EN
CALSCALE:GREGORIAN
METHOD:PUBLISH
X-ORIGINAL-URL:https://figij.org
X-WR-CALDESC:Events for Federation Internationale de Gynecologie Infantile et Juvenile
REFRESH-INTERVAL;VALUE=DURATION:PT1H
X-Robots-Tag:noindex
X-PUBLISHED-TTL:PT1H
BEGIN:VTIMEZONE
TZID:UTC
BEGIN:STANDARD
TZOFFSETFROM:+0000
TZOFFSETTO:+0000
TZNAME:UTC
DTSTART:20160101T000000
END:STANDARD
END:VTIMEZONE
BEGIN:VEVENT
DTSTART;VALUE=DATE:20170427
DTEND;VALUE=DATE:20170430
DTSTAMP:20260419T222744
CREATED:20170119T020504Z
LAST-MODIFIED:20170119T020504Z
UID:10000054-1493251200-1493510399@figij.org
SUMMARY:Berliner Symposium für Kinder- und Jugendgynäkologie
DESCRIPTION:Die Kinder- und Jugendgynäkologie füllt die Lücke\, die lange in der Betreuung von gynäkologischen Erkrankungen\, Symptomen und Problemen bei kleinen und heranwachsenden Mädchen bestand. \nSie wird von den Mädchen und ihren Eltern gesucht und begrüßt und von der Ärzteschaft als fester Bestandteil der alle Altersgruppen umfassenden Gynäkologie betrachtet. \nDabei spielt die interdisziplinäre Zusammenarbeit zwischen Kinderärzten und Frauenärzten wie auch die Kooperation mit angrenzenden Gebieten\, z. B. Kinderchirurgie und -urologie\, eine wesentliche Rolle.
URL:https://figij.org/event/berliner-symposium-fur-kinder-und-jugendgynakologie/
LOCATION:Berlin\, Germany\, Berlin\, Germany
CATEGORIES:Conferences
ATTACH;FMTTYPE=image/png:https://figij.org/wp-content/uploads/2017/01/logo.png
GEO:52.5200066;13.404954
END:VEVENT
END:VCALENDAR