BEGIN:VCALENDAR
VERSION:2.0
PRODID:-//Federation Internationale de Gynecologie Infantile et Juvenile - ECPv6.15.20//NONSGML v1.0//EN
CALSCALE:GREGORIAN
METHOD:PUBLISH
X-ORIGINAL-URL:https://figij.org
X-WR-CALDESC:Events for Federation Internationale de Gynecologie Infantile et Juvenile
REFRESH-INTERVAL;VALUE=DURATION:PT1H
X-Robots-Tag:noindex
X-PUBLISHED-TTL:PT1H
BEGIN:VTIMEZONE
TZID:UTC
BEGIN:STANDARD
TZOFFSETFROM:+0000
TZOFFSETTO:+0000
TZNAME:UTC
DTSTART:20160101T000000
END:STANDARD
END:VTIMEZONE
BEGIN:VEVENT
DTSTART;VALUE=DATE:20170330
DTEND;VALUE=DATE:20170403
DTSTAMP:20260419T235017
CREATED:20170119T015021Z
LAST-MODIFIED:20170119T020614Z
UID:10000052-1490832000-1491177599@figij.org
SUMMARY:The 7th Congress of the Asia Pacific Initiative on Reproduction (ASPIRE 2017)
DESCRIPTION:Renowned for its wide-ranging multidisciplinary approach and distinguished roster of expert speakers\, the 7th Congress of the Asia Pacific Initiative on Reproduction (ASPIRE 2017) is coming to Kuala Lumpur\, Malaysia\, on 30 March – 2 April 2017. \nRight up to the Opening Ceremony\, the Organising Committee and ASPIRE Executive Board will be working tirelessly to bring to Kuala Lumpur this important event for the region’s clinicians\, nurses\, researchers and academics in the field of reproductive medicine and fertility. \nMeanwhile\, the stellar lineup of speakers who will be flying in for the congress are marking their calendars and preparing their presentations\, to assure that all delegates fly out with a wealth of powerful insights into the latest research and treatment options and remain ahead of the curve on all the significant developments and advancements that will impact the future of fertility preservation\, embryology\, andrology\, clinical trials\, PCOS\, PGS\, IVM\, and related fields. \nThe presence of leading pharmaceutical and healthcare product companies will keep all of us up-to-date on the latest treatments and technologies\, and our highly anticipated social programme will provide ample opportunities for catching up with friends and associates\, meeting new ones\, and getting a taste of dynamic Kuala Lumpur with its monuments\, skyscrapers\, parks\, mega-malls\, street markets and fabulous cuisine. \nIt’s time to start spreading the word: ASPIRE 2017 is coming to KL – and we do hope to see you all here!
URL:https://figij.org/event/the-7th-congress-of-the-asia-pacific-initiative-on-reproduction-aspire-2017/
LOCATION:Kuala Lumpur Convention Centre\, Jalan Pinang\, 50450\, Kuala Lumpur\, Malaysia
CATEGORIES:Congresses
ATTACH;FMTTYPE=image/jpeg:https://figij.org/wp-content/uploads/2017/01/Aspire-2017_Small.jpg
GEO:3.153642;101.7117105
X-APPLE-STRUCTURED-LOCATION;VALUE=URI;X-ADDRESS=Kuala Lumpur Convention Centre Jalan Pinang 50450 Kuala Lumpur Malaysia;X-APPLE-RADIUS=500;X-TITLE=Jalan Pinang\, 50450:geo:101.7117105,3.153642
END:VEVENT
END:VCALENDAR