BEGIN:VCALENDAR
VERSION:2.0
PRODID:-//Federation Internationale de Gynecologie Infantile et Juvenile - ECPv6.15.20//NONSGML v1.0//EN
CALSCALE:GREGORIAN
METHOD:PUBLISH
X-WR-CALNAME:Federation Internationale de Gynecologie Infantile et Juvenile
X-ORIGINAL-URL:https://figij.org
X-WR-CALDESC:Events for Federation Internationale de Gynecologie Infantile et Juvenile
REFRESH-INTERVAL;VALUE=DURATION:PT1H
X-Robots-Tag:noindex
X-PUBLISHED-TTL:PT1H
BEGIN:VTIMEZONE
TZID:UTC
BEGIN:STANDARD
TZOFFSETFROM:+0000
TZOFFSETTO:+0000
TZNAME:UTC
DTSTART:20160101T000000
END:STANDARD
END:VTIMEZONE
BEGIN:VEVENT
DTSTART;VALUE=DATE:20170509
DTEND;VALUE=DATE:20170513
DTSTAMP:20260419T222357
CREATED:20170119T020947Z
LAST-MODIFIED:20170119T020947Z
UID:10000018-1494288000-1494633599@figij.org
SUMMARY:Congreso ALOGIA 2017
DESCRIPTION:Asociación Latinoamericana de Obstetricia y Ginecología de la Infancia y Adolescencia \n\nOrganiza: SUGIA (Sociedad Uruguaya de Ginecología para la Infancia y la Adolescencia)
URL:https://figij.org/event/congreso-alogia-2017/
LOCATION:Montevideo\, Montevideo\, Uruguay
CATEGORIES:Congresses
ATTACH;FMTTYPE=image/png:https://figij.org/wp-content/uploads/2017/01/Logo-SAGIJch.png
GEO:-34.9011127;-56.1645314
END:VEVENT
END:VCALENDAR