BEGIN:VCALENDAR
VERSION:2.0
PRODID:-//Federation Internationale de Gynecologie Infantile et Juvenile - ECPv6.15.20//NONSGML v1.0//EN
CALSCALE:GREGORIAN
METHOD:PUBLISH
X-ORIGINAL-URL:https://figij.org
X-WR-CALDESC:Events for Federation Internationale de Gynecologie Infantile et Juvenile
REFRESH-INTERVAL;VALUE=DURATION:PT1H
X-Robots-Tag:noindex
X-PUBLISHED-TTL:PT1H
BEGIN:VTIMEZONE
TZID:UTC
BEGIN:STANDARD
TZOFFSETFROM:+0000
TZOFFSETTO:+0000
TZNAME:UTC
DTSTART:20160101T000000
END:STANDARD
END:VTIMEZONE
BEGIN:VEVENT
DTSTART;VALUE=DATE:20170629
DTEND;VALUE=DATE:20170702
DTSTAMP:20260421T095115
CREATED:20170306T164216Z
LAST-MODIFIED:20170306T164435Z
UID:10000043-1498694400-1498953599@figij.org
SUMMARY:6th International Symposium on DSD  (I-DSD 2017)
DESCRIPTION:www.gla.ac.uk/idsdsymposium  \nImportant Dates\n\nRegistration Opens 1st October 2016\nAbstract Deadline 15th March 2017\nEarly Bird Registration Deadline 15th April 2017\nStandard On-line Registration Deadline 22nd June 2017\n\nWhat is the aim of the Symposium? \n\nTo provide an update on conditions affecting sex development\nTo facilitate networking of professionals involved in the care of people with conditions affecting sex development\nTo increase the use of the I-DSD and I-CAH registries by patients and professionals\n\nThe Symposium should be of interest to: \n\nHealth care staff\nClinical and basic scientists\nParent & patient support groups\n\nPlenary Sessions \nOther Activities \n\nI-DSD Training Workshop for investigators (Thurs 29th June 9-12am – separate registration required)\nParallel Sessions\nOpportunity to present original research\nPoster and oral communication prizes\nGuest lecture\nSocial Programme\n\nDiscounted Registration \n\nI-DSD/I-CAH Registry users\nEarly bird registrants\nConcessions for staff in-training\, allied professionals\, low income regions\, patients\, parents and advocacy groups
URL:https://figij.org/event/6th-international-symposium-on-dsd-i-dsd-2017/
LOCATION:Rigshospitalet\, University of Copenhagen\, Denmark\, University of Copenhagen Blegda​msvej 9 2100\, Copenhagen\, Denmark
ATTACH;FMTTYPE=image/png:https://figij.org/wp-content/uploads/2017/03/media_475302_en-e1488818666510.png
GEO:55.695981;12.566608
X-APPLE-STRUCTURED-LOCATION;VALUE=URI;X-ADDRESS=Rigshospitalet University of Copenhagen Denmark University of Copenhagen Blegda​msvej 9 2100 Copenhagen Denmark;X-APPLE-RADIUS=500;X-TITLE=University of Copenhagen Blegda​msvej 9 2100:geo:12.566608,55.695981
END:VEVENT
END:VCALENDAR