BEGIN:VCALENDAR
VERSION:2.0
PRODID:-//Federation Internationale de Gynecologie Infantile et Juvenile - ECPv6.15.20//NONSGML v1.0//EN
CALSCALE:GREGORIAN
METHOD:PUBLISH
X-ORIGINAL-URL:https://figij.org
X-WR-CALDESC:Events for Federation Internationale de Gynecologie Infantile et Juvenile
REFRESH-INTERVAL;VALUE=DURATION:PT1H
X-Robots-Tag:noindex
X-PUBLISHED-TTL:PT1H
BEGIN:VTIMEZONE
TZID:UTC
BEGIN:STANDARD
TZOFFSETFROM:+0000
TZOFFSETTO:+0000
TZNAME:UTC
DTSTART:20250101T000000
END:STANDARD
END:VTIMEZONE
BEGIN:VEVENT
DTSTART;VALUE=DATE:20260423
DTEND;VALUE=DATE:20260426
DTSTAMP:20260423T130936
CREATED:20240614T162557Z
LAST-MODIFIED:20251001T134944Z
UID:10000066-1776902400-1777161599@figij.org
SUMMARY:World Congress PAG 2026
DESCRIPTION:Registration is Open!\nBridging Excellence in Pediatric & Adolescent Gynecology: Connecting Care\, Research\, and Innovation \n\n\n\nJoin us for an energizing gathering with Pediatric & Adolescent Gynecology\, Adolescent Medicine\, Pediatric Endocrinology\, and Pediatrics colleagues from around the globe. \nThe conference will feature a full 3 days (yes\, all day Saturday too!) of cutting-edge science\, inspirational speakers\, and unrivaled networking opportunities. \n\n\n\nProviders across the globe will come together to collaborate\, learn\, share\, develop policy and disseminate best practices pertaining to leading health issues impacting young people today. \nThe mission of the World Congress of Pediatrics and Adolescent Gynecology (WCPAG) Conference 2026 is to improve the care of patients through evidence based clinical practices including conference topics such as: menstrual concerns\, pubertal issues\, polycystic ovarian syndrome\,  amenorrhea\,  adnexal masses\, pelvic pain and endometriosis\, uterovaginal anomalies\, differences in sexual development (DSD) and intersex variants\, vulvovaginal concerns\, fertility preservation\, sexual and reproductive health including caring for those in special populations\, and education for providers and patients. \nAdditional goals of the conference include engaging in multi-disciplinary collaborations\, optimizing surgical practices with cutting edge equipment/minimally invasive technology\, and partnering with industry as an essential component of our meeting success. \nThe conference will also include discussions and best practices to ensure physician well-being\, resilience and lifelong mentorship. We will highlight scholarly work and research that is advancing the field of Pediatric and Adolescent Gynecology. \nThis conference will feature experts\, top-notch speakers\, and engaging workshops\, providing exceptional opportunities to foster discussions among global colleagues to enhance your PAG expertise- whether you are a newcomer to PAG or a seasoned professional- in a comprehensive and vibrant setting. \nRegister Today!
URL:https://figij.org/event/21st-world-congress-pag-2026/
LOCATION:San Francisco\, CA\, San Francisco\, CA\, United States
CATEGORIES:Conferences,Congresses
ATTACH;FMTTYPE=image/jpeg:https://figij.org/wp-content/uploads/2024/06/WCPAG2026.jpg
GEO:37.7749295;-122.4194155
END:VEVENT
END:VCALENDAR